BEGIN:VCALENDAR
VERSION:2.0
PRODID:-//wp-events-plugin.com//7.2.3.1//EN
TZID:America/New_York
X-WR-TIMEZONE:America/New_York
BEGIN:VEVENT
UID:76@aynorareachamberofcommerce.com
DTSTART:20251105T180000Z
DTEND:20251105T190000Z
DTSTAMP:20251024T055113Z
URL:https://aynorareachamberofcommerce.com/events/ribbon-cutting-celebrati
 on-the-rock-church-opens-this-gen-venue-in-downtown-aynor/
SUMMARY:Ribbon Cutting Celebration: The Rock Church Opens “This Gen Venue
 ” in Downtown Aynor
DESCRIPTION:The Aynor Area Chamber of Commerce is excited to celebrate anot
 her step forward in community growth with the official ribbon cutting of 
  The Rock Church’s new “This Gen Venue” on Wednesday\, November 5\, 
 2025\, at 6:00 PM.The event will take place at 513 8th Avenue in downtown 
 Aynor\, and the public is warmly invited to attend.The This Gen Venue repr
 esents a major milestone for the Aynor Campus of The Rock Church. The newl
 y renovated\, 6\,000-square-foot facility is dedicated to serving students
  and families across the community. The name “This Gen”—short for Th
 is Generation—reflects the church’s belief that today’s students are
  not simply the future of the church\, but an essential and active part of
  it right now.“I grew up in this community and have many great memories 
 of hanging out in downtown Aynor with my friends\,” said Scott Johnson\,
  Aynor Campus Pastor of The Rock Church. “Having this space downtown is 
 a huge asset to the community and for ministry—it’s helping bring life
  back to our town.”The This Gen Venue will serve as a dynamic\, multi-us
 e environment designed to connect students and families through faith\, le
 arning\, and community. On Sundays\, the space hosts The Rock’s elementa
 ry ministry (grades 1–5). On Wednesday evenings\, it transforms into a h
 ub for high school students\, and on Thursdays\, middle schoolers gather f
 or worship\, teaching\, and small group discussions.“This venue has prod
 uced some radical ownership among our students\,” shared Garrett Huggins
 \, This Gen Assistant at The Rock Church Aynor Campus. “It’s their pla
 ce to bring friends\, experience community\, and live out their faith amon
 g their peers.”The opening of This Gen Venue comes during an exciting pe
 riod of growth for The Rock Church’s Aynor Campus. Since launching\, the
  campus has quickly become a vibrant part of the community\, offering oppo
 rtunities for connection\, service\, and personal growth. This expansion a
 llows the church to reach more students and families while contributing to
  the vitality of Aynor’s historic downtown corridor.The Aynor Area Chamb
 er of Commerce is proud to support this milestone and encourages residents
 \, families\, and business owners to attend the ribbon cutting celebration
 . Guests will have the opportunity to tour the new facility\, meet members
  of The Rock Church team\, and enjoy light refreshments.Event Details:📅
  Date: Wednesday\, November 5\, 2025🕕 Time: 6:00 PM📍 Location: The R
 ock Church’s This Gen Venue — 513 8th Avenue\, Aynor\, SC 29511		\n			
 				\n														\n							\n														\n							\n														\n		
 					\n														\n							\n														\n							\n														
ATTACH;FMTTYPE=image/jpeg:https://aynorareachamberofcommerce.com/wp-conten
 t/uploads/2025/10/IMG_1847-scaled.webp
CATEGORIES:New Business Ribbon Cutting
LOCATION:Town of Aynor\, 600 S Main St\, Aynor\, SC\, 29511\, United States
X-APPLE-STRUCTURED-LOCATION;VALUE=URI;X-ADDRESS=600 S Main St\, Aynor\, SC\
 , 29511\, United States;X-APPLE-RADIUS=100;X-TITLE=Town of Aynor:geo:0,0
END:VEVENT
END:VCALENDAR