BEGIN:VCALENDAR
VERSION:2.0
PRODID:-//wp-events-plugin.com//7.2.3.1//EN
TZID:America/New_York
X-WR-TIMEZONE:America/New_York
BEGIN:VEVENT
UID:72@aynorareachamberofcommerce.com
DTSTART:20251206T163000Z
DTEND:20251206T170000Z
DTSTAMP:20251007T051650Z
URL:https://aynorareachamberofcommerce.com/events/aynor-christmas-parade-2
 025/
SUMMARY:Aynor Christmas Parade 2025
DESCRIPTION:The Magic of Christmas Returns to Aynor with the Annual Parade 
 &amp\; Jingle Jam 				\n		The holiday season in Aynor wouldn’t be comple
 te without one of our most beloved traditions—the Annual Aynor Christmas
  Parade\, hosted by the Aynor Area Chamber of Commerce! This year’s cele
 bration takes place on Saturday\, December 6th at 4:30 PM\, and we can’t
  wait to see our community lined up along the streets to cheer\, wave\, an
 d welcome in the season.The parade will feature dazzling floats\, festive 
 performances\, and of course… Santa Claus himself riding through town! 
 🎅✨ And for those participating\, don’t forget—the Chamber Committ
 ee will award Best Float\, so let your creativity shine and show off your 
 holiday spirit!Be Part of the ParadeThe Aynor Christmas Parade is more tha
 n just a show—it’s a chance for local organizations\, schools\, church
 es\, and businesses to come together and spread joy throughout our town. I
 f you’d like to be part of this holiday tradition\, we’d love to have 
 you join us!		\n					\n									Register for the Parade\n					\n					The C
 elebration Continues: Jingle Jam in the Park				\n		When the last float pa
 sses by\, the festivities don’t stop. The Town of Aynor invites you to k
 eep the fun going at Jingle Jam\, starting at 5:00 PM in Aynor Town Park.B
 ring your family and friends to enjoy:🍔 Delicious food &amp\; local ven
 dors🎵 Live music and holiday entertainment🎄 The lighting of the town
  Christmas tree🎅 Another chance to see Santa!Vendors are encouraged to 
 sign up and be part of the Jingle Jam\, offering food\, crafts\, and holid
 ay treasures for everyone to enjoy. 		\n					\n									Sign for Jingle J
 am\n					\n																														\n																														\
 n					Celebrate the Season with Us				\n		From the excitement of the Aynor
  Christmas Parade to the warmth and cheer of the Jingle Jam\, this is one 
 holiday tradition you won’t want to miss. Let’s come together to celeb
 rate community\, joy\, and the spirit of Christmas in Aynor.We’ll see yo
 u on Saturday\, December 6th for a magical evening of holiday fun! 
ATTACH;FMTTYPE=image/jpeg:https://aynorareachamberofcommerce.com/wp-conten
 t/uploads/2025/10/aynor-christmas-parade-2025.webp
CATEGORIES:Christmas Parade
LOCATION:Town of Aynor\, 600 S Main St\, Aynor\, SC\, 29511\, United States
X-APPLE-STRUCTURED-LOCATION;VALUE=URI;X-ADDRESS=600 S Main St\, Aynor\, SC\
 , 29511\, United States;X-APPLE-RADIUS=100;X-TITLE=Town of Aynor:geo:0,0
END:VEVENT
END:VCALENDAR