BEGIN:VCALENDAR
VERSION:2.0
PRODID:-//wp-events-plugin.com//7.2.3.1//EN
TZID:America/New_York
X-WR-TIMEZONE:America/New_York
BEGIN:VEVENT
UID:79@aynorareachamberofcommerce.com
DTSTART:20251202T180000Z
DTEND:20251202T190000Z
DTSTAMP:20251114T194614Z
URL:https://aynorareachamberofcommerce.com/events/20-years-of-our-family-s
 erving-your-family-johnson-funeral-home-of-aynor-celebrates-a-milestone/
SUMMARY:20 Years of “Our Family Serving Your Family”: Johnson Funeral H
 ome of Aynor Celebrates a Milestone
DESCRIPTION:Twenty summers ago\, a simple sign went up on a stretch of road
  most folks in Aynor already knew by heart. It read Johnson Funeral Home\,
  and beneath it\, in smaller letters that said everything: “Our Family S
 erving Your Family.”				\n		\n			#gallery-1 {\n				margin: auto\;\n			}\
 n			#gallery-1 .gallery-item {\n				float: left\;\n				margin-top: 10px\;\
 n				text-align: center\;\n				width: 20%\;\n			}\n			#gallery-1 img {\n		
 		border: 2px solid #cfcfcf\;\n			}\n			#gallery-1 .gallery-caption {\n			
 	margin-left: 0\;\n			}\n			/* see gallery_shortcode() in wp-includes/medi
 a.php */\n		\n		\n			\n				\n			\n			\n				\n			\n			\n				\n			\n			\n			
 	\n			\n			\n				\n			\n		The story of this hometown treasure is the story
  of one family’s faith\, grit\, and love for the community that raised t
 hem.A Dream Born in 10th-Grade HomeroomJeremy Johnson was just a kid at Ay
 nor High School when the idea first flickered. While classmates talked abo
 ut college football or weekend plans\, Jeremy quietly pictured a place whe
 re neighbors could grieve without feeling alone.By senior year\, the thoug
 ht had become a calling. With no experience—just a whole lot of heart—
 he enrolled at Gupton-Jones College of Mortuary Science\, graduating in 19
 98. He cut his teeth at funeral homes in Mullins\, Myrtle Beach\, and Conw
 ay\, learning that the work wasn’t about caskets or schedules. It was ab
 out holding someone’s hand at 3 a.m. when the world felt too heavy.Build
 ing More Than a BuildingIn late 2003\, while managing a funeral home in Co
 nway\, Jeremy sketched his dream on the only paper handy: his parents’ k
 itchen countertop. What followed wasn’t a corporate rollout—it was a f
 amily barn-raising.The unwavering support of uncles Truman\, Bruce and Cec
 il Johnson - along with boundless love of the entire family-was instrument
 al in making Jeremy's dream a reality\; Uncle Jack Cayton turned counterto
 p doodles into blueprints.Cousin Jamie Johnson poured the foundation\, fra
 med the walls\, and paved the lot—right alongside Jeremy’s dad\, Sam J
 ohnson\, mom Mary\, and brother Sam Jr.When the doors opened in July 2005\
 , every nail\, every light fixture\, every parking stripe had a Johnson fi
 ngerprint on it.The Heartbeat Behind the SignWalk through those doors toda
 y and you’ll still find the same crew keeping the lights on:Sam and Mary
 \, the steady hands who answer phones and fold programs like it’s still 
 opening day.Brook\, Jeremy’s patient\, loving wife who keeps the family
 —and the business—running smoothly.Mason and Maggie\, the next generat
 ion already learning that service is spelled with a smile\, even on the ha
 rdest days.And the staff? “The greatest anyone could ask for\,” Jeremy
  says. Together\, they’ve turned a building into a refuge.A Town That Sh
 owed UpAynor didn’t just welcome Johnson Funeral Home—they fed it. Lit
 erally.There was Bill Hucks\, slipping a hot supper through the door at 10
  p.m. because he knew Jeremy hadn’t eaten. There were holiday casseroles
  dropped off “just because y’all are working.” There were hugs\, pra
 yers\, and trusts deeper than words.Over 20 years\, Jeremy has cared for c
 hildhood friends\, Sunday school teachers\, and the parents who once cheer
 ed him on at Blue Jacket football games. Every service has been a quiet th
 ank-you to the town that believed in a boy with a countertop dream.Here’
 s to the Next 20From a 10th-grade whisper to a cornerstone of compassion\,
  Johnson Funeral Home stands as proof that family isn’t just who you’r
 e born to—it’s who shows up.So here’s to Jeremy\, Brook\, Sam\, Mary
 \, Mason\, Maggie\, and every uncle\, cousin\, staff member\, and neighbor
  who built something lasting.Thank you\, Aynor\, for 20 years of trust. - 
 Jeremy Johnson🎉 You’re Invited: 20th Anniversary CeremonyMonday\, Dec
 ember 2\, 2025 | 10:00 AM | Johnson Funeral Home of AynorLight refreshment
 s\, memories\, and gratitude will be shared. Bring a story\, bring a smile
 \, bring your neighbor. Let’s fill the room with the same love Aynor has
  given us for two decades.Johnson Funeral Home of Aynor is a proud member 
 of the Aynor Chamber of Commerce. Stop by\, say hello\, and help them cel
 ebrate two decades of love in action.Johnson Funeral Home of Aynor | Servi
 ng Aynor\, Galivants Ferry\, and beyond since 2005 | “Our Family Serving
  Your Family”
ATTACH;FMTTYPE=image/jpeg:https://aynorareachamberofcommerce.com/wp-conten
 t/uploads/2025/10/Screenshot-2025-10-13-at-2.16.14-PM.webp
CATEGORIES:Business Anniversary &amp; Milestone
LOCATION:Johnson Funeral Home\, 290 9th Ave\, aynor\, SC\, 29511\, United S
 tates
X-APPLE-STRUCTURED-LOCATION;VALUE=URI;X-ADDRESS=290 9th Ave\, aynor\, SC\, 
 29511\, United States;X-APPLE-RADIUS=100;X-TITLE=Johnson Funeral Home:geo:
 0,0
END:VEVENT
END:VCALENDAR